BEGIN:VCALENDAR
VERSION:2.0
PRODID:-//eventon.com NONSGML v1.0//EN
CALSCALE:GREGORIAN
METHOD:PUBLISH
BEGIN:VEVENT
UID:69e4c51ceb25e
DTSTAMP:20260419T120548Z
DTSTART:20241209T233000Z
DTEND:20241210T020000Z
LOCATION:
SUMMARY:ORLANDO\,  FL
DESCRIPTION:ORLANDO\,  FL\nhttps://rikroberts.com/events/orlando-fl/
URL:https://rikroberts.com/events/orlando-fl/
END:VEVENT
END:VCALENDAR